BEGIN:VCALENDAR
VERSION:2.0
PRODID:-//Pamplin Historical Park - ECPv6.15.20//NONSGML v1.0//EN
CALSCALE:GREGORIAN
METHOD:PUBLISH
X-ORIGINAL-URL:https://pamplinpark.org
X-WR-CALDESC:Events for Pamplin Historical Park
REFRESH-INTERVAL;VALUE=DURATION:PT1H
X-Robots-Tag:noindex
X-PUBLISHED-TTL:PT1H
BEGIN:VTIMEZONE
TZID:America/New_York
BEGIN:DAYLIGHT
TZOFFSETFROM:-0500
TZOFFSETTO:-0400
TZNAME:EDT
DTSTART:20230312T070000
END:DAYLIGHT
BEGIN:STANDARD
TZOFFSETFROM:-0400
TZOFFSETTO:-0500
TZNAME:EST
DTSTART:20231105T060000
END:STANDARD
BEGIN:DAYLIGHT
TZOFFSETFROM:-0500
TZOFFSETTO:-0400
TZNAME:EDT
DTSTART:20240310T070000
END:DAYLIGHT
BEGIN:STANDARD
TZOFFSETFROM:-0400
TZOFFSETTO:-0500
TZNAME:EST
DTSTART:20241103T060000
END:STANDARD
BEGIN:DAYLIGHT
TZOFFSETFROM:-0500
TZOFFSETTO:-0400
TZNAME:EDT
DTSTART:20250309T070000
END:DAYLIGHT
BEGIN:STANDARD
TZOFFSETFROM:-0400
TZOFFSETTO:-0500
TZNAME:EST
DTSTART:20251102T060000
END:STANDARD
END:VTIMEZONE
BEGIN:VEVENT
DTSTART;TZID=America/New_York:20240201T190000
DTEND;TZID=America/New_York:20240201T200000
DTSTAMP:20260421T173805
CREATED:20240115T170315Z
LAST-MODIFIED:20240115T170315Z
UID:4801-1706814000-1706817600@pamplinpark.org
SUMMARY:Roundtable: The Tale of Two Brothers
DESCRIPTION:Join speaker Emmanuel Dabney as he shares the story of ” A Tale of Two Brothers: James and Robert Roantree’s Civil War Experiences.” The Petersburg Civil War Roundtable (PCWRT) will meet the first Thursday of each month at Pamplin Historical Park and the National Museum of the Civil War Soldier from 7:00 pm-8:00 pm. Annual membership is $40.00. Individuals who are already members of Pamplin Historical Park can become members of PCWRT for $20.00. Non-members can attend for $5.00 each meeting. Call (804) 861-2408 for more information or visit https://petersburgcwrt.com.
URL:https://pamplinpark.org/event/roundtable-the-tale-of-two-brothers/
CATEGORIES:arts & culture,education,history talks
END:VEVENT
END:VCALENDAR