BEGIN:VCALENDAR
VERSION:2.0
PRODID:-//Pamplin Historical Park - ECPv6.15.20//NONSGML v1.0//EN
CALSCALE:GREGORIAN
METHOD:PUBLISH
X-WR-CALNAME:Pamplin Historical Park
X-ORIGINAL-URL:https://pamplinpark.org
X-WR-CALDESC:Events for Pamplin Historical Park
REFRESH-INTERVAL;VALUE=DURATION:PT1H
X-Robots-Tag:noindex
X-PUBLISHED-TTL:PT1H
BEGIN:VTIMEZONE
TZID:America/New_York
BEGIN:DAYLIGHT
TZOFFSETFROM:-0500
TZOFFSETTO:-0400
TZNAME:EDT
DTSTART:20230312T070000
END:DAYLIGHT
BEGIN:STANDARD
TZOFFSETFROM:-0400
TZOFFSETTO:-0500
TZNAME:EST
DTSTART:20231105T060000
END:STANDARD
BEGIN:DAYLIGHT
TZOFFSETFROM:-0500
TZOFFSETTO:-0400
TZNAME:EDT
DTSTART:20240310T070000
END:DAYLIGHT
BEGIN:STANDARD
TZOFFSETFROM:-0400
TZOFFSETTO:-0500
TZNAME:EST
DTSTART:20241103T060000
END:STANDARD
BEGIN:DAYLIGHT
TZOFFSETFROM:-0500
TZOFFSETTO:-0400
TZNAME:EDT
DTSTART:20250309T070000
END:DAYLIGHT
BEGIN:STANDARD
TZOFFSETFROM:-0400
TZOFFSETTO:-0500
TZNAME:EST
DTSTART:20251102T060000
END:STANDARD
END:VTIMEZONE
BEGIN:VEVENT
DTSTART;TZID=America/New_York:20240102T080000
DTEND;TZID=America/New_York:20240102T170000
DTSTAMP:20260421T200838
CREATED:20240102T171653Z
LAST-MODIFIED:20240102T171653Z
UID:4797-1704182400-1704214800@pamplinpark.org
SUMMARY:Roundtable: "A Tale of Two Brothers: James and Robert Roantree's Civil War Experiences."
DESCRIPTION:Join speaker Emmanuel Dabney as he shares the story of ” A Tale of Two Brothers: James and Robert Roantree’s Civil War Experiences.” \nJames Roantree\, first served in the 157th New York Infantry with his brother\, Robert. After a disastrous day at Gettysburg on July 1\, 1863\, in which James was wounded\, he would later recuperate in Philadelphia. Dabney will explore the lives and adventures of these two brothers who fought in the American Civil War. \nDabney works for the National Park Service as museum curator at Petersburg National Battlefield and traces his fascination with Civil War history to fourth grade and growing up in Dinwiddie County\, Virginia. \nThe Petersburg Civil War Roundtable (PCWRT) will meet the first Thursday of each month at Pamplin Historical Park and the National Museum of the Civil War Soldier from 7:00 pm-8:00 pm. Annual membership is $40.00. Individuals who are already members of Pamplin Historical Park can become members of PCWRT for $20.00. Non-members can attend for $5.00 each meeting. Call (804) 861-2408 for more information.
URL:https://pamplinpark.org/event/roundtable-a-tale-of-two-brothers-james-and-robert-roantrees-civil-war-experiences/
CATEGORIES:arts & culture,education,history talks
END:VEVENT
BEGIN:VEVENT
DTSTART;TZID=America/New_York:20240104T190000
DTEND;TZID=America/New_York:20240104T200000
DTSTAMP:20260421T200838
CREATED:20240102T165538Z
LAST-MODIFIED:20240102T165538Z
UID:4793-1704394800-1704398400@pamplinpark.org
SUMMARY:Roundtable: "Moments of Contingency in the Rise of Grant"
DESCRIPTION:Join speaker Dr. Chris Mackowski who will present on January 4\, 2024 at 7:00 p.m. to the Petersburg Civil War Roundtable. Dr. Mackowski will share “Moments of Contingency in the Rise of Grant.” \nUlysses S. Grant is a central figure from the American Civil War. A native of Ohio\, Grant answered the call to serve and finished the war as a lieutenant general in command of the U.S. Army. A mere four years later he would be elected to the presidency of the United States. In both his military and political career\, Grant was battered by enemies and his reputation suffered. One of his crowning achievements was his personal memoirs. It’s still in print today and has been studied by scholars and continues to shape his legacy. Mackowski will discuss this complex figure in both public and personal life\, offering fresh perspectives on his military career and presidency along with exploring personal topics as well. \nChris Mackowski\, Ph.D.\, is the editor-in-chief and co-founder of Emerging Civil War and the series editor of the award-winning Emerging Civil War Series\, published by Savas Beatie. Chris is a writing professor in the Jandoli School of Communication at St. Bonaventure University in Allegany\, NY\, where he also serves as associate dean for undergraduate programs. He has worked as a historian for the National Park Service at Fredericksburg & Spotsylvania National Military Park\, where he gives tours at four major Civil War battlefields. \nMackowski has authored or co-authored nearly two dozen books and edited a half-dozen essay collections on the Civil War\, and his articles have appeared in all the major Civil War magazines. Mackowski serves as vice president on the board of directors for the Central Virginia Battlefields Trust\, he serves on the advisory board of the Civil War Roundtable Congress and the Brunswick (NC) Civil War Roundtable—the largest in the country. He is also a member of the Antietam Institute and the U. S. Grant Homestead Association. In 2023\, he was honored with the Houston Civil War Round Table’s Frank Vandiver Award and also selected as the Copie Hill Fellow at the American Battlefield Trust. \nThe Petersburg Civil War Roundtable (PCWRT) will meet the first Thursday of each month at Pamplin Historical Park and the National Museum of the Civil War Soldier from 7:00 pm-8:00 pm. Annual membership is $40.00. Individuals who are already members of Pamplin Historical Park can become members of PCWRT for $20.00. Non-members can attend for $5.00 each meeting. Call (804) 861-2408 for more information.
URL:https://pamplinpark.org/event/roundtable-moments-of-contingency-in-the-rise-of-grant/
CATEGORIES:arts & culture,education,history talks
END:VEVENT
END:VCALENDAR