BEGIN:VCALENDAR
VERSION:2.0
PRODID:-//Pamplin Historical Park - ECPv6.15.20//NONSGML v1.0//EN
CALSCALE:GREGORIAN
METHOD:PUBLISH
X-WR-CALNAME:Pamplin Historical Park
X-ORIGINAL-URL:https://pamplinpark.org
X-WR-CALDESC:Events for Pamplin Historical Park
REFRESH-INTERVAL;VALUE=DURATION:PT1H
X-Robots-Tag:noindex
X-PUBLISHED-TTL:PT1H
BEGIN:VTIMEZONE
TZID:America/New_York
BEGIN:DAYLIGHT
TZOFFSETFROM:-0500
TZOFFSETTO:-0400
TZNAME:EDT
DTSTART:20220313T070000
END:DAYLIGHT
BEGIN:STANDARD
TZOFFSETFROM:-0400
TZOFFSETTO:-0500
TZNAME:EST
DTSTART:20221106T060000
END:STANDARD
BEGIN:DAYLIGHT
TZOFFSETFROM:-0500
TZOFFSETTO:-0400
TZNAME:EDT
DTSTART:20230312T070000
END:DAYLIGHT
BEGIN:STANDARD
TZOFFSETFROM:-0400
TZOFFSETTO:-0500
TZNAME:EST
DTSTART:20231105T060000
END:STANDARD
BEGIN:DAYLIGHT
TZOFFSETFROM:-0500
TZOFFSETTO:-0400
TZNAME:EDT
DTSTART:20240310T070000
END:DAYLIGHT
BEGIN:STANDARD
TZOFFSETFROM:-0400
TZOFFSETTO:-0500
TZNAME:EST
DTSTART:20241103T060000
END:STANDARD
END:VTIMEZONE
BEGIN:VEVENT
DTSTART;TZID=America/New_York:20230923T180000
DTEND;TZID=America/New_York:20230924T020000
DTSTAMP:20260421T211023
CREATED:20230801T193343Z
LAST-MODIFIED:20230801T193343Z
UID:4692-1695492000-1695520800@pamplinpark.org
SUMMARY:Paranormal Investigation
DESCRIPTION:Join Commonwealth Researchers of the Paranormal (C.R.O.P.) for an exclusive investigation of  Pamplin Historical Park and the National Museum of the Civil War Soldier. \nCome investigate with us on September 23rd at Pamplin Historical Park\, recently featured on Travel Channel’s Portals to Hell. Explore the Breakthrough Battlefield of America’s Civil War where hundreds perished in the battle that ended the Siege of Petersburg on April 2\, 1865; visit the Tudor Hall plantation house built in 1812; and investigate museums with thousands of Civil War artifacts. \nWe do not recommend this event for children under the age of 16. There will be quite a bit a walking involved\, please prepare accordingly. \nReserve your tickets early as space is limited! Buy tickets now at Eventbrite.com or call 804-861-2408. \nCheck-In will begin at 6PM at Pamplin Historical Park’s Education Center\, 6523 Duncan Road\, Petersburg\, VA 23803.
URL:https://pamplinpark.org/event/paranormal-investigation-2/
LOCATION:Pamplin Historical Park\, 6125 Boydton Plank Road\, Petersburg\, VA\, 23803\, United States
CATEGORIES:arts & culture,Performance,tours
ORGANIZER;CN="Pamplin Historical Park":MAILTO:memberservices@pamplinpark.org
END:VEVENT
END:VCALENDAR