BEGIN:VCALENDAR
VERSION:2.0
PRODID:-//Pamplin Historical Park - ECPv6.15.20//NONSGML v1.0//EN
CALSCALE:GREGORIAN
METHOD:PUBLISH
X-ORIGINAL-URL:https://pamplinpark.org
X-WR-CALDESC:Events for Pamplin Historical Park
REFRESH-INTERVAL;VALUE=DURATION:PT1H
X-Robots-Tag:noindex
X-PUBLISHED-TTL:PT1H
BEGIN:VTIMEZONE
TZID:America/New_York
BEGIN:DAYLIGHT
TZOFFSETFROM:-0500
TZOFFSETTO:-0400
TZNAME:EDT
DTSTART:20200308T070000
END:DAYLIGHT
BEGIN:STANDARD
TZOFFSETFROM:-0400
TZOFFSETTO:-0500
TZNAME:EST
DTSTART:20201101T060000
END:STANDARD
BEGIN:DAYLIGHT
TZOFFSETFROM:-0500
TZOFFSETTO:-0400
TZNAME:EDT
DTSTART:20210314T070000
END:DAYLIGHT
BEGIN:STANDARD
TZOFFSETFROM:-0400
TZOFFSETTO:-0500
TZNAME:EST
DTSTART:20211107T060000
END:STANDARD
BEGIN:DAYLIGHT
TZOFFSETFROM:-0500
TZOFFSETTO:-0400
TZNAME:EDT
DTSTART:20220313T070000
END:DAYLIGHT
BEGIN:STANDARD
TZOFFSETFROM:-0400
TZOFFSETTO:-0500
TZNAME:EST
DTSTART:20221106T060000
END:STANDARD
END:VTIMEZONE
BEGIN:VEVENT
DTSTART;TZID=America/New_York:20210508T140000
DTEND;TZID=America/New_York:20210508T153000
DTSTAMP:20260422T233242
CREATED:20190204T210547Z
LAST-MODIFIED:20210422T160016Z
UID:2471-1620482400-1620487800@pamplinpark.org
SUMMARY:Mother's Day Tea
DESCRIPTION:Join us for this Mother’s Day for great tea and gourmet treats shared with your special mom as you explore the world of Jane Austen and her stories. Austen focused on on mothers and their children in her works; Pride & Prejudice\, Sense & Sensibility\, Northanger Abbey\, and Mansfield Park. Discussions will include comparisons between Austen’s own mother and siblings and how they contrast with real life or fiction. \n\nTake this special opportunity to celebrate your one and only mom and remember what Abraham Lincoln once said\, “All that I am\, or hope to be\, I owe to my angel mother.” \nThe Mother’s Day Tea will only be offered one afternoon\, May 8 from 2:00 p.m. – 3:30 p.m. and space is limited. Due to the popularity of this program\, reservations and prepayment are required. RSVP by May 5th. The event will be held at The National Museum of the Civil War Soldier located at 6125 Boydton Plank Road\, Petersburg\, VA 23803. \nA virtual option is available which will run from 10:00 a.m. – 11:00 a.m. \nPark Members $30\, Non-Park Members $25 (in-person event) Purchase In-Person Tickets \nAll Tickets $15\, (virtual) Purchase Tickets Purchase Virtual Tickets
URL:https://pamplinpark.org/event/mothers-day-tea-2/
LOCATION:Pamplin Historical Park\, 6125 Boydton Plank Road\, Petersburg\, VA\, 23803\, United States
CATEGORIES:arts & culture,food,literature,tea
END:VEVENT
END:VCALENDAR