BEGIN:VCALENDAR
VERSION:2.0
PRODID:-//Pamplin Historical Park - ECPv6.15.20//NONSGML v1.0//EN
CALSCALE:GREGORIAN
METHOD:PUBLISH
X-ORIGINAL-URL:https://pamplinpark.org
X-WR-CALDESC:Events for Pamplin Historical Park
REFRESH-INTERVAL;VALUE=DURATION:PT1H
X-Robots-Tag:noindex
X-PUBLISHED-TTL:PT1H
BEGIN:VTIMEZONE
TZID:America/New_York
BEGIN:DAYLIGHT
TZOFFSETFROM:-0500
TZOFFSETTO:-0400
TZNAME:EDT
DTSTART:20220313T070000
END:DAYLIGHT
BEGIN:STANDARD
TZOFFSETFROM:-0400
TZOFFSETTO:-0500
TZNAME:EST
DTSTART:20221106T060000
END:STANDARD
BEGIN:DAYLIGHT
TZOFFSETFROM:-0500
TZOFFSETTO:-0400
TZNAME:EDT
DTSTART:20230312T070000
END:DAYLIGHT
BEGIN:STANDARD
TZOFFSETFROM:-0400
TZOFFSETTO:-0500
TZNAME:EST
DTSTART:20231105T060000
END:STANDARD
BEGIN:DAYLIGHT
TZOFFSETFROM:-0500
TZOFFSETTO:-0400
TZNAME:EDT
DTSTART:20240310T070000
END:DAYLIGHT
BEGIN:STANDARD
TZOFFSETFROM:-0400
TZOFFSETTO:-0500
TZNAME:EST
DTSTART:20241103T060000
END:STANDARD
END:VTIMEZONE
BEGIN:VEVENT
DTSTART;TZID=America/New_York:20231207T190000
DTEND;TZID=America/New_York:20231207T200000
DTSTAMP:20260424T104748
CREATED:20230816T220932Z
LAST-MODIFIED:20230818T204840Z
UID:4725-1701975600-1701979200@pamplinpark.org
SUMMARY:Roundtable: Fate at Petersburg" The Story of Col. G. L. Prescott\, 32nd Mass."
DESCRIPTION:Join Dr. Sean Heuvel who will present on December 7\, 2023 at 7:00 p.m. to the Petersburg Civil War Roundtable. Dr. Heuvel will share the “‘Fate at Petersburg: The Story of Colonel George L. Prescott\, 32nd Massachusetts.” \n\nDr. Sean M. Heuvel serves as Director of Graduate Recruitment and Admissions at Christopher Newport University. In that capacity\, he oversees the admissions process for all of CNU’s graduate programs. He holds a B.A. in Government\, M.Ed. in Higher Education Administration\, and Ph.D. in Higher Education Administration from The College of William and Mary. He also completed an M.A. in History from the University of Richmond. Prior to this current position\, he served as a faculty member at CNU for sixteen years and was an admissions officer in CNU’s Undergraduate Admissions Office before that. \n\n\n\n\nAn active scholar in the fields of American military history\, higher education\, and leadership studies\, he has written numerous books as well as articles for refereed journals\, encyclopedias\, and magazines. His interests include higher education history\, the college presidency\, the American Revolution\, the American Civil War\, World War II\, and military leadership. Active in foreign study programs at CNU\, Heuvel has also lectured at Harris Manchester College\, Oxford University\, in the United Kingdom. He and his wife and two children live in Williamsburg\, Virginia. \nThe Petersburg Civil War Roundtable (PCWRT) will meet the first Thursday of each month (except for the months of June\, July and August) at Pamplin Historical Park and the National Museum of the Civil War Soldier from 7:00 pm-8:00 pm. Annual membership is $40.00. Individuals who are already members of Pamplin Historical Park can become members of PCWRT for $20.00. Non-members can attend for $5.00 each meeting. Call (804) 861-2408 for more information. \n  \n\n\n\n\nPublications chevron down\n\n\n\n\n 
URL:https://pamplinpark.org/event/roundtable-fate-at-petersburg-the-story-of-col-g-l-prescott-32nd-mass/
CATEGORIES:arts & culture,history talks,literature
END:VEVENT
END:VCALENDAR