BEGIN:VCALENDAR
VERSION:2.0
PRODID:-//Pamplin Historical Park - ECPv6.15.20//NONSGML v1.0//EN
CALSCALE:GREGORIAN
METHOD:PUBLISH
X-WR-CALNAME:Pamplin Historical Park
X-ORIGINAL-URL:https://pamplinpark.org
X-WR-CALDESC:Events for Pamplin Historical Park
REFRESH-INTERVAL;VALUE=DURATION:PT1H
X-Robots-Tag:noindex
X-PUBLISHED-TTL:PT1H
BEGIN:VTIMEZONE
TZID:America/New_York
BEGIN:DAYLIGHT
TZOFFSETFROM:-0500
TZOFFSETTO:-0400
TZNAME:EDT
DTSTART:20200308T070000
END:DAYLIGHT
BEGIN:STANDARD
TZOFFSETFROM:-0400
TZOFFSETTO:-0500
TZNAME:EST
DTSTART:20201101T060000
END:STANDARD
BEGIN:DAYLIGHT
TZOFFSETFROM:-0500
TZOFFSETTO:-0400
TZNAME:EDT
DTSTART:20210314T070000
END:DAYLIGHT
BEGIN:STANDARD
TZOFFSETFROM:-0400
TZOFFSETTO:-0500
TZNAME:EST
DTSTART:20211107T060000
END:STANDARD
BEGIN:DAYLIGHT
TZOFFSETFROM:-0500
TZOFFSETTO:-0400
TZNAME:EDT
DTSTART:20220313T070000
END:DAYLIGHT
BEGIN:STANDARD
TZOFFSETFROM:-0400
TZOFFSETTO:-0500
TZNAME:EST
DTSTART:20221106T060000
END:STANDARD
END:VTIMEZONE
BEGIN:VEVENT
DTSTART;TZID=America/New_York:20210704T090000
DTEND;TZID=America/New_York:20210704T170000
DTSTAMP:20260420T135425
CREATED:20210604T212138Z
LAST-MODIFIED:20210701T151703Z
UID:4150-1625389200-1625418000@pamplinpark.org
SUMMARY:Independence Day Celebration
DESCRIPTION:Join us this Independence Day as Pamplin Historical Park will offer multiple programs throughout the day. Families will enjoy the chance to meet George Washington\, hear about World War I from an American Doughboy\, participate in 19th century games and take part in a ceremony concluding with a cannon fire salute. All visitors will have the opportunity to join staff for tours of the Breakthrough Battlefield which on April 2\, 1865\, resulted in the evacuation of both Petersburg and Richmond. \nGeneral Washington (portrayed by Brian Hilton) will discuss the meaning and legacy of the American War for Independence.  You will have the opportunity to interact with Washington by asking questions and offering your own thoughts about the American Revolution\, the Declaration of Independence\, the 4th of July\, and the union of the states.  What better way to celebrate the birthday of our country than to engage in conversation with the “Father of Our Country”?   There will be opportunities for photographs with General Washington following the program.  This is a family friendly event for people of all ages. \nLiving-historians representing the Hanover Independent Company of 1775 will also share how civilians supported patriots and British forces in the American Revolutionary War. Visitors can hear the Citizens of Old Virginia perform musical tunes from the Civil War as they share home front views of the war from both northern and southern perspectives. \nBill Stallings will bring the Great War to life as an American soldier better known as Doughboys from World War I. Visitors can hear about America’s unprepared mobilization and the experience of fighting in trenches and facing new technologies\, during this terrible conflict. Several artifacts from the conflict will also be on display and their importance and stories shared with families and visitors. \nEveryone will additionally be able to participate in games including America’s pastime\, baseball. \n\n\n\n\n\n\n\n\n\n\n\n\n\n\n\n\n\n\n\n\nAll event activities and programs are included with regular daily paid admission. \n\nEvent Schedule\n\n10:30-11:00 am\nRoundball to Rimfire Living History Firing Demonstration\nDemonstration Area at NMCWS\n\n\n\n11:15-11:45 am\nIndependence Day Games Sack Race\, 3-Legged Race\, and other period games\nMeet at Tudor Hall’s West Yard\n\n\n\n12:00-12:15 pm Independence Day Celebration\nFlag Display\, Pledge of Allegiance\, Artillery Firing\nAt Fortification Exhibit\n\n\n\n1:00-2:00 pm “Embarked on a Tempestuous Ocean”\nGen. George Washington & the War for Independence\nLiving History Presentation by Brian Hilton\nEducation Center\n\n\n\n2:15-3:00 pm  The World War I Doughboy\nLiving History Demonstration by Bill Stallings\nEducation Center\n\n\n\n3:15-4:00 pm Breakthrough Battlefield Walking Tour\nMeet at Battlefield Center\n\n\n\nVisit with living historians at Tudor Hall from organizations portraying different periods\, including: Clotho Spinning and Weaving Guild; the Hanover Independent Company of 1775; and the Citizens of Old Virginia\, 1855-1865.\n\n\n\nAlso\, be sure to stop in the Battlefield Center and see our newest temporary exhibit\, “We Fight for Our Rights\, Liberty\, Justice and Union\,” which explores the service of the United States Colored Troops during the Civil War.
URL:https://pamplinpark.org/event/independence-day-celebration/
CATEGORIES:artillery,arts & culture,history talks,holiday,living history
END:VEVENT
END:VCALENDAR