BEGIN:VCALENDAR
VERSION:2.0
PRODID:-//Pamplin Historical Park - ECPv6.15.20//NONSGML v1.0//EN
CALSCALE:GREGORIAN
METHOD:PUBLISH
X-ORIGINAL-URL:https://pamplinpark.org
X-WR-CALDESC:Events for Pamplin Historical Park
REFRESH-INTERVAL;VALUE=DURATION:PT1H
X-Robots-Tag:noindex
X-PUBLISHED-TTL:PT1H
BEGIN:VTIMEZONE
TZID:America/New_York
BEGIN:DAYLIGHT
TZOFFSETFROM:-0500
TZOFFSETTO:-0400
TZNAME:EDT
DTSTART:20220313T070000
END:DAYLIGHT
BEGIN:STANDARD
TZOFFSETFROM:-0400
TZOFFSETTO:-0500
TZNAME:EST
DTSTART:20221106T060000
END:STANDARD
BEGIN:DAYLIGHT
TZOFFSETFROM:-0500
TZOFFSETTO:-0400
TZNAME:EDT
DTSTART:20230312T070000
END:DAYLIGHT
BEGIN:STANDARD
TZOFFSETFROM:-0400
TZOFFSETTO:-0500
TZNAME:EST
DTSTART:20231105T060000
END:STANDARD
BEGIN:DAYLIGHT
TZOFFSETFROM:-0500
TZOFFSETTO:-0400
TZNAME:EDT
DTSTART:20240310T070000
END:DAYLIGHT
BEGIN:STANDARD
TZOFFSETFROM:-0400
TZOFFSETTO:-0500
TZNAME:EST
DTSTART:20241103T060000
END:STANDARD
END:VTIMEZONE
BEGIN:VEVENT
DTSTART;TZID=America/New_York:20231020T080000
DTEND;TZID=America/New_York:20231020T170000
DTSTAMP:20260421T165536
CREATED:20230410T205807Z
LAST-MODIFIED:20230802T211905Z
UID:4652-1697788800-1697821200@pamplinpark.org
SUMMARY:2023 Symposium Optional Tour: 1862 Peninsula Campaign
DESCRIPTION:Join Pamplin Historical Park’s Executive Director\, Colin Romanick\, and Newport News Historic Sites Curator\, J. Michael Moore as we examine General McClellan’s Peninsula Campaign\, covering the period between the landing of the Army of the Potomac on the Peninsula on March 17\, 1862 to the Battle of Williamsburg on May 5\, 1862. \nThe tour will leave from the National Museum of the Civil War Soldier at Pamplin Historical\nPark promptly at 8:00 a.m. and return by 5:30 p.m. Stops will include the Warwick Courthouse\,\nLee’s Mill\, Dam No. 1\, Endview Plantation\, Lee Hall Mansion and others along the way. A box\nlunch will be provided (included in your registration fee). Reservations are required and space is\nlimited. Registration is on a first-come\, first-served basis. Full payment is due upon registration.\nRefunds will be issued\, minus a $10 administrative fee\, through September 30\, 2023. No refunds\nwill be issued after that date. \nRegister online today here and then click on “get tickets” and select he add-on quantity or download a copy of the tour registration form by clicking here. Call (804) 861-2408 for more information.
URL:https://pamplinpark.org/event/2023-symposium-optional-tour-1862-peninsula-campaign/
LOCATION:Pamplin Historical Park\, 6125 Boydton Plank Road\, Petersburg\, VA\, 23803\, United States
CATEGORIES:arts & culture,history talks,symposium,tours
ORGANIZER;CN="Pamplin Historical Park":MAILTO:memberservices@pamplinpark.org
END:VEVENT
END:VCALENDAR