BEGIN:VCALENDAR
VERSION:2.0
PRODID:-//Pamplin Historical Park - ECPv6.15.20//NONSGML v1.0//EN
CALSCALE:GREGORIAN
METHOD:PUBLISH
X-WR-CALNAME:Pamplin Historical Park
X-ORIGINAL-URL:https://pamplinpark.org
X-WR-CALDESC:Events for Pamplin Historical Park
REFRESH-INTERVAL;VALUE=DURATION:PT1H
X-Robots-Tag:noindex
X-PUBLISHED-TTL:PT1H
BEGIN:VTIMEZONE
TZID:America/New_York
BEGIN:DAYLIGHT
TZOFFSETFROM:-0500
TZOFFSETTO:-0400
TZNAME:EDT
DTSTART:20200308T070000
END:DAYLIGHT
BEGIN:STANDARD
TZOFFSETFROM:-0400
TZOFFSETTO:-0500
TZNAME:EST
DTSTART:20201101T060000
END:STANDARD
BEGIN:DAYLIGHT
TZOFFSETFROM:-0500
TZOFFSETTO:-0400
TZNAME:EDT
DTSTART:20210314T070000
END:DAYLIGHT
BEGIN:STANDARD
TZOFFSETFROM:-0400
TZOFFSETTO:-0500
TZNAME:EST
DTSTART:20211107T060000
END:STANDARD
BEGIN:DAYLIGHT
TZOFFSETFROM:-0500
TZOFFSETTO:-0400
TZNAME:EDT
DTSTART:20220313T070000
END:DAYLIGHT
BEGIN:STANDARD
TZOFFSETFROM:-0400
TZOFFSETTO:-0500
TZNAME:EST
DTSTART:20221106T060000
END:STANDARD
END:VTIMEZONE
BEGIN:VEVENT
DTSTART;TZID=America/New_York:20210506T190000
DTEND;TZID=America/New_York:20210506T200000
DTSTAMP:20260422T102717
CREATED:20210113T210342Z
LAST-MODIFIED:20210115T150948Z
UID:3784-1620327600-1620331200@pamplinpark.org
SUMMARY:Roundtable: The Lee-Jackson Partnership
DESCRIPTION:Join speaker Christopher Keller as he discusses command decision-making from his book\, “The Lee-Jackson Partnership.” The Petersburg Civil War Roundtable (PCWRT) will meet the first Thursday of each month at Pamplin Historical Park and the National Museum of the Civil War Soldier from 7:00 pm-8:00 pm. Annual membership is $40.00. Individuals who are already members of Pamplin Historical Park can become members of PCWRT for $20.00. Non-members can attend for $5.00 each meeting. Call (804) 861-2408 for more information. \n\n\n\n\n\n\n\n\n\n\n\n\n\n\n\n\n\n\n\n\n\n\n“Presently PCWRT meetings are limited to 25 total people. Those that wish to attend need to reserve a seat on a first come first serve basis. You may do so by emailing Tim Talbott at ttalbott@pamplinpark.org. A confirmation reply will be sent confirming your attendance or letting you know that you are on the wait list if we end up going over the 25 person threshold.”
URL:https://pamplinpark.org/event/the-lee-jackson-partnership/
CATEGORIES:arts & culture,history talks,literature
END:VEVENT
END:VCALENDAR