BEGIN:VCALENDAR
VERSION:2.0
PRODID:-//Pamplin Historical Park - ECPv6.15.20//NONSGML v1.0//EN
CALSCALE:GREGORIAN
METHOD:PUBLISH
X-WR-CALNAME:Pamplin Historical Park
X-ORIGINAL-URL:https://pamplinpark.org
X-WR-CALDESC:Events for Pamplin Historical Park
REFRESH-INTERVAL;VALUE=DURATION:PT1H
X-Robots-Tag:noindex
X-PUBLISHED-TTL:PT1H
BEGIN:VTIMEZONE
TZID:America/New_York
BEGIN:DAYLIGHT
TZOFFSETFROM:-0500
TZOFFSETTO:-0400
TZNAME:EDT
DTSTART:20190310T070000
END:DAYLIGHT
BEGIN:STANDARD
TZOFFSETFROM:-0400
TZOFFSETTO:-0500
TZNAME:EST
DTSTART:20191103T060000
END:STANDARD
BEGIN:DAYLIGHT
TZOFFSETFROM:-0500
TZOFFSETTO:-0400
TZNAME:EDT
DTSTART:20200308T070000
END:DAYLIGHT
BEGIN:STANDARD
TZOFFSETFROM:-0400
TZOFFSETTO:-0500
TZNAME:EST
DTSTART:20201101T060000
END:STANDARD
BEGIN:DAYLIGHT
TZOFFSETFROM:-0500
TZOFFSETTO:-0400
TZNAME:EDT
DTSTART:20210314T070000
END:DAYLIGHT
BEGIN:STANDARD
TZOFFSETFROM:-0400
TZOFFSETTO:-0500
TZNAME:EST
DTSTART:20211107T060000
END:STANDARD
END:VTIMEZONE
BEGIN:VEVENT
DTSTART;TZID=America/New_York:20201024T140000
DTEND;TZID=America/New_York:20201024T153000
DTSTAMP:20260424T152003
CREATED:20191023T143804Z
LAST-MODIFIED:20201008T181409Z
UID:2835-1603548000-1603553400@pamplinpark.org
SUMMARY:Halloween Tea
DESCRIPTION:This Halloween season meet the master of terror\, Edgar Allan Poe as portrayed by Charles Wissinger of Richmond Discoveries. Wissinger will read some of Poe’s famous works followed by a question and answer session. \nTake this one time opportunity to experience what Edgar Allan Poe described as\, “Deep into that darkness peering\, long I stood there\, wondering\, fearing\, doubting\, dreaming dreams no mortal ever dared to dream before.” from his work “The Raven”. \nThe Park’s Halloween Tea will only be offered one afternoon and space is limited. Due to the popularity of the tea programs\, reservations and prepayment are required. RSVP by October 22nd. The event will be held at The National Museum of the Civil War Soldier located at 6125 Boydton Plank Road\, Petersburg\, VA 23803. The cost is $24.00 per person which also includes a general admission to the Park for the day. Call (804) 861-2408 to reserve your experience beyond the dark veil or buy tickets on www.eventbrite.com. \nThe health and safety of visitors and staff is a first priority. The park is following the governor of Virginia’s Phase III Guidelines. Frequent cleaning and sanitation of high contact surfaces is performed daily. Staff members wear face coverings and visitors are encouraged to do so as well. Social distancing of a physical six feet will be maintained throughout the 424-acre park and building occupancy levels will be closely monitored.
URL:https://pamplinpark.org/event/halloween-tea-2/
LOCATION:Pamplin Historical Park\, 6125 Boydton Plank Road\, Petersburg\, VA\, 23803\, United States
CATEGORIES:holiday,tea
ORGANIZER;CN="Pamplin Historical Park":MAILTO:memberservices@pamplinpark.org
END:VEVENT
END:VCALENDAR