BEGIN:VCALENDAR
VERSION:2.0
PRODID:-//Pamplin Historical Park - ECPv6.15.20//NONSGML v1.0//EN
CALSCALE:GREGORIAN
METHOD:PUBLISH
X-ORIGINAL-URL:https://pamplinpark.org
X-WR-CALDESC:Events for Pamplin Historical Park
REFRESH-INTERVAL;VALUE=DURATION:PT1H
X-Robots-Tag:noindex
X-PUBLISHED-TTL:PT1H
BEGIN:VTIMEZONE
TZID:America/New_York
BEGIN:DAYLIGHT
TZOFFSETFROM:-0500
TZOFFSETTO:-0400
TZNAME:EDT
DTSTART:20180311T070000
END:DAYLIGHT
BEGIN:STANDARD
TZOFFSETFROM:-0400
TZOFFSETTO:-0500
TZNAME:EST
DTSTART:20181104T060000
END:STANDARD
BEGIN:DAYLIGHT
TZOFFSETFROM:-0500
TZOFFSETTO:-0400
TZNAME:EDT
DTSTART:20190310T070000
END:DAYLIGHT
BEGIN:STANDARD
TZOFFSETFROM:-0400
TZOFFSETTO:-0500
TZNAME:EST
DTSTART:20191103T060000
END:STANDARD
BEGIN:DAYLIGHT
TZOFFSETFROM:-0500
TZOFFSETTO:-0400
TZNAME:EDT
DTSTART:20200308T070000
END:DAYLIGHT
BEGIN:STANDARD
TZOFFSETFROM:-0400
TZOFFSETTO:-0500
TZNAME:EST
DTSTART:20201101T060000
END:STANDARD
BEGIN:DAYLIGHT
TZOFFSETFROM:-0500
TZOFFSETTO:-0400
TZNAME:EDT
DTSTART:20210314T070000
END:DAYLIGHT
BEGIN:STANDARD
TZOFFSETFROM:-0400
TZOFFSETTO:-0500
TZNAME:EST
DTSTART:20211107T060000
END:STANDARD
END:VTIMEZONE
BEGIN:VEVENT
DTSTART;TZID=America/New_York:20200206T190000
DTEND;TZID=America/New_York:20200206T200000
DTSTAMP:20260423T183721
CREATED:20190807T204127Z
LAST-MODIFIED:20191211T194535Z
UID:2715-1581015600-1581019200@pamplinpark.org
SUMMARY:Petersburg Civil War Round Table at Pamplin
DESCRIPTION:Speaker Chris Bingham will discuss “The United States Colored Troops at Appomattox”. The Petersburg Civil War Roundtable (PCWRT) will meet the first Thursday of each month (except June\, July\, and August) at Pamplin Historical Park and the National Museum of the Civil War Soldier from 7:00 pm – 8:00 pm. Annual membership is $40.00. Individuals who are already members of Pamplin Historical Park can become members of PCWRT for $20.00. Non-members can attend for $5.00 each meeting. Call (804) 861-2408 for more information.
URL:https://pamplinpark.org/event/petersburg-civil-war-round-table-pamplin-10/
LOCATION:Pamplin Historical Park\, 6125 Boydton Plank Road\, Petersburg\, VA\, 23803\, United States
CATEGORIES:arts & culture,history talks,literature
ORGANIZER;CN="Pamplin Historical Park":MAILTO:memberservices@pamplinpark.org
END:VEVENT
BEGIN:VEVENT
DTSTART;TZID=America/New_York:20200102T190000
DTEND;TZID=America/New_York:20200102T200000
DTSTAMP:20260423T183721
CREATED:20190807T203620Z
LAST-MODIFIED:20191211T194419Z
UID:2713-1577991600-1577995200@pamplinpark.org
SUMMARY:Petersburg Civil War Round Table at Pamplin
DESCRIPTION:Speakers William Waldrop and Mike Nusbaum will discuss “The CSS Richmond”. The Petersburg Civil War Roundtable (PCWRT) will meet the first Thursday of each month (except June\, July\, and August) at Pamplin Historical Park and the National Museum of the Civil War Soldier from 7:00 pm – 8:00 pm. Annual membership is $40.00. Individuals who are already members of Pamplin Historical Park can become members of PCWRT for $20.00. Non-members can attend for $5.00 each meeting. Call (804) 861-2408 for more information.
URL:https://pamplinpark.org/event/petersburg-civil-war-round-table-pamplin-9/
LOCATION:Pamplin Historical Park\, 6125 Boydton Plank Road\, Petersburg\, VA\, 23803\, United States
CATEGORIES:arts & culture,education,history talks,literature
ORGANIZER;CN="Pamplin Historical Park":MAILTO:memberservices@pamplinpark.org
END:VEVENT
BEGIN:VEVENT
DTSTART;TZID=America/New_York:20191205T190000
DTEND;TZID=America/New_York:20191205T200000
DTSTAMP:20260423T183721
CREATED:20181116T195106Z
LAST-MODIFIED:20190322T201652Z
UID:2382-1575572400-1575576000@pamplinpark.org
SUMMARY:Petersburg Civil War Round Table at Pamplin
DESCRIPTION:Join us as we welcome Stephen Davis who currently serves as the Book Review editor  for the Civil War News. His presentation is titled\, “Hood’s Flank Attack at Atlanta\, July 22\, 1864: Why Jackson’s Flank Attack at Chancellorsville Succeeded\, and Hood’s Did Not.” \nSteve has been a Civil War buff since the 4th grade. He attended Emory University\, and studied under the renowned Civil War historian Bell Wiley. After a Master’s degree in American history from the University of North Carolina at Chapel Hill\, he taught high school for a few years\, then earned his Ph.D. at Emory\, where he concentrated on the theme of the Civil War in Southern literature. \nHe served as Book Review Editor for Blue & Gray Magazine from 1984 to 2005\, and is the author of more than a hundred articles in such scholarly and popular publications as Civil War Times Illustrated and the Georgia Historical Quarterly. \nSteve is the author of several books on the Atlanta Campaign: Atlanta Will Fall: Sherman\, John Johnston and the Heavy Yankee Battalions\, and What the Yankees Did to Us: Sherman’s Bombardment and Wrecking of Atlanta. In May 2016 Savas Beatie published his paperback\, A Long and Bloody Task: The Atlanta Campaign from Dalton through Kennesaw Mountain to the Chattahoochee\, May 5-July 18\, 1864. His companion volume is being released this spring: All the Fighting They Want: The Atlanta Campaign from Peach Tree Creek to the Surrender of the City\, July 18-September 2\, 1864. \nDr. Davis is also a talking head. In 2015 he served as a speaker and consultant for the television documentary\, “When Georgia Howled: Sherman on the March\,” a joint production of the Atlanta History Center and Georgia Public Broadcasting. \nSteve is also a popular speaker to Civil War Round Tables and historical societies around the country. His favorite event was when he was invited to speak to the annual meeting of the American Civil War Round Table (UK) in London. His talks around the country have sometimes been filmed and broadcast on C-SPAN. \nThe Petersburg Civil War Roundtable (PCWRT) will meet the first Thursday of each month (except June\, July\, and August) at Pamplin Historical Park and the National Museum of the Civil War Soldier from 7:00 pm-8:00 pm. Annual membership is $40.00. Individuals who are already members of Pamplin Historical Park can become members of PCWRT for $20.00. Non-members can attend for $5.00 each meeting. Call (804) 861-2408 for more information.
URL:https://pamplinpark.org/event/petersburg-civil-war-round-table-pamplin-8/
LOCATION:Pamplin Historical Park\, 6125 Boydton Plank Road\, Petersburg\, VA\, 23803\, United States
CATEGORIES:arts & culture,history talks,literature
ORGANIZER;CN="Pamplin Historical Park":MAILTO:memberservices@pamplinpark.org
END:VEVENT
BEGIN:VEVENT
DTSTART;TZID=America/New_York:20191018T090000
DTEND;TZID=America/New_York:20191020T170000
DTSTAMP:20260423T183721
CREATED:20181105T201225Z
LAST-MODIFIED:20190322T204914Z
UID:2311-1571389200-1571590800@pamplinpark.org
SUMMARY:23rd Annual Civil War Symposium
DESCRIPTION:Join us for the 23rd Annual Civil War Symposium at Pamplin Historical Park in 2019 and hear from some of the nation’s greatest Civil War scholars as they talk about “Small Battles\, Big Results”. \nThe authors and topics are as follows: \nMr. Peter Cozzens – Battle of Iuka \nMr. Jerry Desmond – Battle of Ringgold \nMr. Rod Gragg – Battle of Fort Fisher \nMr. Jeff Hunt – Battle of Mine Run \nMr. James Morgan – Battle of Ball’s Bluff \nDr. Timothy Smith – Champion Hill \nDr. Brian Steel Wills – Battle of Fort Pillow \nThe Symposium begins on Friday night with a reception at the Park where attendees and speakers can meet and enjoy refreshments. Saturday is filled with lectures and opportunities to purchase published works by the speakers for autographs and participation in a silent auction. Sunday will feature additional speakers and a panel discussion. \nSymposium pricing is $339.00 per attendee\, which includes all lectures\, the Friday night reception\, two mid-morning coffee breaks\, two lunches\, and a Saturday night banquet. Space is limited and pre-registration and payment is required for the Symposium. A letter of confirmation will be sent to all registrants. \nCall (804) 861-2408 or visit www.pamplinpark.org for more information and to register today. \nSpace is limited so register now. See and print the registration form here.
URL:https://pamplinpark.org/event/23rd-annual-civil-war-symposium/
LOCATION:Pamplin Historical Park\, 6125 Boydton Plank Road\, Petersburg\, VA\, 23803\, United States
CATEGORIES:arts & culture,history talks,literature,symposium
ORGANIZER;CN="Pamplin Historical Park":MAILTO:memberservices@pamplinpark.org
END:VEVENT
BEGIN:VEVENT
DTSTART;TZID=America/New_York:20191003T190000
DTEND;TZID=America/New_York:20191003T200000
DTSTAMP:20260423T183721
CREATED:20181116T193650Z
LAST-MODIFIED:20190930T190240Z
UID:2374-1570129200-1570132800@pamplinpark.org
SUMMARY:Petersburg Civil War Round Table at Pamplin
DESCRIPTION:Due to unforeseen circumstances\, Ed Bearss will not be with us for the October PCWRT meeting. Instead\, our own Director of Education\, Interpretation\, Visitor Services & Collections\, Tim Talbott will speak on “Visionary or Iconoclastic: Maj. Gen. Patrick Cleburne and His Proposal to Emancipate and Arm Slaves for the Confederacy.” \nOctober’s Round Table guest speaker is the nationally recognized award-winning author and historian Ed Bearss. Mr. Bearss will be speaking on the “April 1\, 1865\, Battle of Five Forks”.  Mr. Bearss is a United States Marine Corps veteran of World War II\, a military historian and author known for his work on the American Civil War and World War II eras. He is also a popular tour guide of historic battlefields for The Smithsonian Associates. Bearss served as Chief Historian of the National Park Service from 1981 to 1994 and is currently Chief Historian Emeritus. \nThe Petersburg Civil War Roundtable (PCWRT) will meet the first Thursday of each month (except June\, July\, and August) at Pamplin Historical Park and the National Museum of the Civil War Soldier from 7:00 pm-8:00 pm. Annual membership is $40.00. Individuals who are already members of Pamplin Historical Park can become members of PCWRT for $20.00. Non-members can attend for $5.00 each meeting. Call (804) 861-2408 for more information.
URL:https://pamplinpark.org/event/petersburg-civil-war-round-table-pamplin-6/
LOCATION:Pamplin Historical Park\, 6125 Boydton Plank Road\, Petersburg\, VA\, 23803\, United States
CATEGORIES:arts & culture,history talks,literature
ORGANIZER;CN="Pamplin Historical Park":MAILTO:memberservices@pamplinpark.org
END:VEVENT
BEGIN:VEVENT
DTSTART;TZID=America/New_York:20190905T190000
DTEND;TZID=America/New_York:20190905T200000
DTSTAMP:20260423T183721
CREATED:20181116T193450Z
LAST-MODIFIED:20190322T203538Z
UID:2371-1567710000-1567713600@pamplinpark.org
SUMMARY:Petersburg Civil War Round Table at Pamplin
DESCRIPTION:Join this month’s guest speaker Caroline Janney\, Professor of History of American Civil War at the University of Virginia as she talks about “We Were Not Paroled: The Surrender of Lee’s Men beyond Appomattox Court House”. \nDr. Janney is the director of the John L. Nau III Center for Civil War History at the University of Virginia . A graduate of the University of Virginia’s doctoral program\, Janney most recently taught at Purdue University. She is the author of two outstanding works in the field of Civil War studies\, Burying the Dead but Not the Past: Ladies’ Memorial Associations and the Lost Cause and Remembering the Civil War: Reunion and the Limits of Reconciliation\, both published by the University of North Carolina Press. She also has edited two volumes of essays\, published numerous scholarly articles\, and is completing a study of the demobilization of the Army of Northern Virginia. Dr. Janney received both the Charles S. Sydnor Award and the Jefferson Davis Award for for her work\, Remembering the Civil War: Reunion and the Limits of Reconciliation. \nThe Petersburg Civil War Roundtable (PCWRT) will meet the first Thursday of each month (except June\, July\, and August) at Pamplin Historical Park and the National Museum of the Civil War Soldier from 7:00 pm-8:00 pm. Annual membership is $40.00. Individuals who are already members of Pamplin Historical Park can become members of PCWRT for $20.00. Non-members can attend for $5.00 each meeting. Call (804) 861-2408 for more information.
URL:https://pamplinpark.org/event/petersburg-civil-war-round-table-pamplin-5/
LOCATION:Pamplin Historical Park\, 6125 Boydton Plank Road\, Petersburg\, VA\, 23803\, United States
CATEGORIES:arts & culture,history talks,literature
ORGANIZER;CN="Pamplin Historical Park":MAILTO:memberservices@pamplinpark.org
END:VEVENT
BEGIN:VEVENT
DTSTART;TZID=America/New_York:20190330T120000
DTEND;TZID=America/New_York:20190330T130000
DTSTAMP:20260423T183721
CREATED:20190308T162856Z
LAST-MODIFIED:20190308T162857Z
UID:2557-1553947200-1553950800@pamplinpark.org
SUMMARY:Breakthrough Luncheon with Peter Carmichael
DESCRIPTION:Dr. Peter S. Carmichael will speak at a special luncheon during the Park’s Breakthrough Battle Anniversary Weekend on March 30th at noon. Carmichael will discuss his latest book and share some of his research on the Petersburg Campaign.  Attendees will have an opportunity to read and raise questions about some of the sources he utilized for his new book The War for the Common Soldier: How Men Thought\, Fought\, and Survived in Civil War Armies. \nReservations for this author luncheon are required and can be made by calling (804) 861-2408. A registration fee of $45.00 includes the luncheon lecture\, boxed lunch and a copy of Carmichael’s new book The War for the Common Soldier: How Men Thought\, Fought\, and Survived in Civil War Armies. An assortment of box lunch selection options include; The Italian Sandwich\, Turkey Sandwich\, Ham and Swiss Sandwich\, Mediterranean Veggie Sandwich or a Caesar Salad. Luncheon attendees are invited to explore the Park afterwards\, with their included regular daily Park admission. \nDr. Peter S. Carmichael is the Fluhrer Professor of History and the Director of the Civil War Institute at Gettysburg College. He completed his doctorate at Penn State University and then went on to teach at Western Carolina University\, the University of North Carolina at Greensboro and West Virginia University. Carmichael is the author of seven books including The Last Generation: Young Virginians in Peace\, War\, and Reunion\, which was published by the University of North Carolina Press in 2005.
URL:https://pamplinpark.org/event/breakthrough-luncheon-peter-carmichael/
LOCATION:Pamplin Historical Park\, 6125 Boydton Plank Road\, Petersburg\, VA\, 23803\, United States
CATEGORIES:arts & culture,food,history talks,literature
ORGANIZER;CN="Pamplin Historical Park":MAILTO:memberservices@pamplinpark.org
END:VEVENT
BEGIN:VEVENT
DTSTART;TZID=America/New_York:20190307T190000
DTEND;TZID=America/New_York:20190307T200000
DTSTAMP:20260423T183721
CREATED:20181116T184827Z
LAST-MODIFIED:20190206T215551Z
UID:2341-1551985200-1551988800@pamplinpark.org
SUMMARY:Petersburg Civil War Round Table at Pamplin
DESCRIPTION:Join this month’s guest speaker Jerry “Dez” Desmond\, Executive Director of Pamplin Historical Park as he talks about “Maine Troops at Gettysburg”. \nDesmond’s career includes 22 years of professional museum experience in the areas of education\, curation\, and administration. He has written numerous historical articles and multiple books including “Turning the Tide at Gettysburg: How Maine Saved the Union.”Since his time at La Paglia and Associates\, he has served as a consultant leading the development and expansion of new and existing museums. Desmond was involved with over 20 mostly Civil War-related museum projects across the Southeast while serving with La Paglia and Associates. \nDesmond has received the Tennessee Association of Museums Award of Excellence for four consecutive years 1996-1999. More recently\, he has served as the Director of the Rome History Museum in Georgia and the Birmingham History Center in Alabama. His master degrees in both education and history were completed at the University of Maine. Jerry’s early career includes 12 years of secondary school education and college-level teaching experience. \nThe Petersburg Civil War Round table (PCWRT) will meet the first Thursday of each month (except June\, July\, and August) at Pamplin Historical Park and the National Museum of the Civil War Soldier from 7:00 pm-8:00 pm. Annual membership is $40.00. Individuals who are already members of Pamplin Historical Park can become members of PCWRT for $20.00. Non-members can attend for $5.00 each meeting. Call (804) 861-2408 for more information.
URL:https://pamplinpark.org/event/petersburg-civil-war-round-table-pamplin-2/
LOCATION:Pamplin Historical Park\, 6125 Boydton Plank Road\, Petersburg\, VA\, 23803\, United States
CATEGORIES:arts & culture,history talks,literature
ORGANIZER;CN="Pamplin Historical Park":MAILTO:memberservices@pamplinpark.org
END:VEVENT
END:VCALENDAR