BEGIN:VCALENDAR
VERSION:2.0
PRODID:-//Pamplin Historical Park - ECPv6.15.20//NONSGML v1.0//EN
CALSCALE:GREGORIAN
METHOD:PUBLISH
X-WR-CALNAME:Pamplin Historical Park
X-ORIGINAL-URL:https://pamplinpark.org
X-WR-CALDESC:Events for Pamplin Historical Park
REFRESH-INTERVAL;VALUE=DURATION:PT1H
X-Robots-Tag:noindex
X-PUBLISHED-TTL:PT1H
BEGIN:VTIMEZONE
TZID:America/New_York
BEGIN:DAYLIGHT
TZOFFSETFROM:-0500
TZOFFSETTO:-0400
TZNAME:EDT
DTSTART:20250309T070000
END:DAYLIGHT
BEGIN:STANDARD
TZOFFSETFROM:-0400
TZOFFSETTO:-0500
TZNAME:EST
DTSTART:20251102T060000
END:STANDARD
BEGIN:DAYLIGHT
TZOFFSETFROM:-0500
TZOFFSETTO:-0400
TZNAME:EDT
DTSTART:20260308T070000
END:DAYLIGHT
BEGIN:STANDARD
TZOFFSETFROM:-0400
TZOFFSETTO:-0500
TZNAME:EST
DTSTART:20261101T060000
END:STANDARD
BEGIN:DAYLIGHT
TZOFFSETFROM:-0500
TZOFFSETTO:-0400
TZNAME:EDT
DTSTART:20270314T070000
END:DAYLIGHT
BEGIN:STANDARD
TZOFFSETFROM:-0400
TZOFFSETTO:-0500
TZNAME:EST
DTSTART:20271107T060000
END:STANDARD
END:VTIMEZONE
BEGIN:VEVENT
DTSTART;TZID=America/New_York:20260108T190000
DTEND;TZID=America/New_York:20260108T200000
DTSTAMP:20260420T235914
CREATED:20251124T223311Z
LAST-MODIFIED:20251124T223311Z
UID:5231-1767898800-1767902400@pamplinpark.org
SUMMARY:Roundtable: Opium Slavery: The Civil War\, Veterans\, and America’s First Opioid Crisis
DESCRIPTION:Join speaker Dr. Jonathan Jones as he shares the “Opium Slavery: The Civil War\, Veterans\, and America’s First Opioid Crisis.” \nThe Petersburg Civil War Roundtable (PCWRT) will meet the first Thursday of each month at Pamplin Historical Park and the National Museum of the Civil War Soldier from 7:00 pm-8:00 pm. Annual membership is $40.00. Individuals who are already members of Pamplin Historical Park can become members of PCWRT for $20.00. Non-members can attend for $5.00 each meeting. Call (804) 861-2408 for more information. \nThis is an in-person event.
URL:https://pamplinpark.org/event/roundtable-opium-slavery-the-civil-war-veterans-and-americas-first-opioid-crisis/
CATEGORIES:education,history talks,literature
END:VEVENT
BEGIN:VEVENT
DTSTART;TZID=America/New_York:20260205T190000
DTEND;TZID=America/New_York:20260205T200000
DTSTAMP:20260420T235914
CREATED:20251124T223716Z
LAST-MODIFIED:20251124T223824Z
UID:5233-1770318000-1770321600@pamplinpark.org
SUMMARY:Roundtable: The Battle of Franklin
DESCRIPTION:Join speaker Andrew Gallagher as he shares the “Twilight of the Confederacy: The Battle of Franklin.” \nThe Petersburg Civil War Roundtable (PCWRT) will meet the first Thursday of each month at Pamplin Historical Park and the National Museum of the Civil War Soldier from 7:00 pm-8:00 pm. Annual membership is $40.00. Individuals who are already members of Pamplin Historical Park can become members of PCWRT for $20.00. Non-members can attend for $5.00 each meeting. Call (804) 861-2408 for more information. \nThis is an in-person event.
URL:https://pamplinpark.org/event/roundtable-the-battle-of-franklin/
CATEGORIES:arts & culture,education,history talks,literature
END:VEVENT
BEGIN:VEVENT
DTSTART;TZID=America/New_York:20260402T190000
DTEND;TZID=America/New_York:20260402T200000
DTSTAMP:20260420T235914
CREATED:20251125T222943Z
LAST-MODIFIED:20251125T222943Z
UID:5247-1775156400-1775160000@pamplinpark.org
SUMMARY:Roundtable: The Civil War Sacrifice of Somerset County\, Pennsylvania
DESCRIPTION:Join speaker Jerry Ankeny as he shares “The Civil War Sacrifice of Somerset County\, Pennsylvania.” \nThe Petersburg Civil War Roundtable (PCWRT) will meet the first Thursday of each month at Pamplin Historical Park and the National Museum of the Civil War Soldier from 7:00 pm-8:00 pm. Annual membership is $40.00. Individuals who are already members of Pamplin Historical Park can become members of PCWRT for $20.00. Non-members can attend for $5.00 each meeting. Call (804) 861-2408 for more information. \nThis is an in-person event.
URL:https://pamplinpark.org/event/roundtable-the-civil-war-sacrifice-of-somerset-county-pennsylvania/
CATEGORIES:arts & culture,education,history talks,literature
END:VEVENT
END:VCALENDAR