BEGIN:VCALENDAR
VERSION:2.0
PRODID:-//Pamplin Historical Park - ECPv6.15.20//NONSGML v1.0//EN
CALSCALE:GREGORIAN
METHOD:PUBLISH
X-WR-CALNAME:Pamplin Historical Park
X-ORIGINAL-URL:https://pamplinpark.org
X-WR-CALDESC:Events for Pamplin Historical Park
REFRESH-INTERVAL;VALUE=DURATION:PT1H
X-Robots-Tag:noindex
X-PUBLISHED-TTL:PT1H
BEGIN:VTIMEZONE
TZID:America/New_York
BEGIN:DAYLIGHT
TZOFFSETFROM:-0500
TZOFFSETTO:-0400
TZNAME:EDT
DTSTART:20160313T070000
END:DAYLIGHT
BEGIN:STANDARD
TZOFFSETFROM:-0400
TZOFFSETTO:-0500
TZNAME:EST
DTSTART:20161106T060000
END:STANDARD
BEGIN:DAYLIGHT
TZOFFSETFROM:-0500
TZOFFSETTO:-0400
TZNAME:EDT
DTSTART:20170312T070000
END:DAYLIGHT
BEGIN:STANDARD
TZOFFSETFROM:-0400
TZOFFSETTO:-0500
TZNAME:EST
DTSTART:20171105T060000
END:STANDARD
BEGIN:DAYLIGHT
TZOFFSETFROM:-0500
TZOFFSETTO:-0400
TZNAME:EDT
DTSTART:20180311T070000
END:DAYLIGHT
BEGIN:STANDARD
TZOFFSETFROM:-0400
TZOFFSETTO:-0500
TZNAME:EST
DTSTART:20181104T060000
END:STANDARD
BEGIN:DAYLIGHT
TZOFFSETFROM:-0500
TZOFFSETTO:-0400
TZNAME:EDT
DTSTART:20190310T070000
END:DAYLIGHT
BEGIN:STANDARD
TZOFFSETFROM:-0400
TZOFFSETTO:-0500
TZNAME:EST
DTSTART:20191103T060000
END:STANDARD
END:VTIMEZONE
BEGIN:VEVENT
DTSTART;TZID=America/New_York:20180217T140000
DTEND;TZID=America/New_York:20180217T150000
DTSTAMP:20260425T130317
CREATED:20171227T165406Z
LAST-MODIFIED:20171227T165406Z
UID:1973-1518876000-1518879600@pamplinpark.org
SUMMARY:Black History Month at Pamplin: Sojourner Truth
DESCRIPTION:Charmaine Crowell-White will provide a first-person portrayal of famed abolitionist and women’s rights activist Sojourner Truth. Born Isabella in the late 1790s\, in New York State\, Truth escaped to freedom and became a noted champion of human rights. \nBlack History Month events are included with regular paid Park admission or active Park memberships.
URL:https://pamplinpark.org/event/black-history-month-pamplin-sojourner-truth/
LOCATION:Pamplin Historical Park\, 6125 Boydton Plank Road\, Petersburg\, VA\, 23803\, United States
CATEGORIES:arts & culture,history talks,living history
ORGANIZER;CN="Pamplin Historical Park":MAILTO:memberservices@pamplinpark.org
END:VEVENT
BEGIN:VEVENT
DTSTART;TZID=America/New_York:20180210T130000
DTEND;TZID=America/New_York:20180210T140000
DTSTAMP:20260425T130317
CREATED:20171227T164811Z
LAST-MODIFIED:20171227T165505Z
UID:1970-1518267600-1518271200@pamplinpark.org
SUMMARY:Black History Month at Pamplin: Elizabeth Keckley
DESCRIPTION:Join Wayne Tucker as he speaks on the intriguing life of Elizabeth Keckley. Keckley was born enslaved and lived in Dinwiddie County and Petersburg as a young girl. She eventually purchased her freedom with her seamstress skills after being moved to Missouri. With her freedom\, she became the premier dress maker in Washington D.C.\, just before and during the Civil War. Keckley’s impressive work led to her selection as the personal White House dressmaker\, close friend\, and confidante of Mrs. Lincoln. \nBlack History Month events are included with regular paid Park admission or active Park memberships.
URL:https://pamplinpark.org/event/black-history-month-pamplin-elizabeth-keckley/
LOCATION:Pamplin Historical Park\, 6125 Boydton Plank Road\, Petersburg\, VA\, 23803\, United States
CATEGORIES:arts & culture,history talks
ORGANIZER;CN="Pamplin Historical Park":MAILTO:memberservices@pamplinpark.org
END:VEVENT
BEGIN:VEVENT
DTSTART;TZID=America/New_York:20180208T130000
DTEND;TZID=America/New_York:20180208T163000
DTSTAMP:20260425T130317
CREATED:20180130T201602Z
LAST-MODIFIED:20180130T201602Z
UID:2019-1518094800-1518107400@pamplinpark.org
SUMMARY:Volunteer Open House at Pamplin
DESCRIPTION:Pamplin Historical Park and The National Museum of the Civil War Soldier is offering fun volunteer opportunities to help preserve history\, and promote education! As John F. Kennedy said\, “We celebrate the past to awaken the future.” Park staff will share information on volunteer opportunities at the Park and hold on-site interviews on Saturday\, Feb. 3 from 9:30 a.m. to 1:00 p.m.\, Sunday\, Feb. 4 from 1:00 p.m. to 4:30 p.m.\, Thursday\, Feb. 8 from 1:00 p.m. to 4:30 p.m. and Friday\, Feb. 9 from 9:30 a.m. to 1:00 p.m.at The National Museum of the Civil War Soldier\, located at 6125 Boydton Plank Road\, Petersburg\, VA 23803. \nThese volunteer recruitment open houses are held in preparation for the busy spring field trip and travel season. Volunteers are vital in assisting Park staff with visitor needs\, especially during the busy school season. \nVolunteers may assist in a variety of areas that focus on the Park’s goal to help preserve history and promote education. Volunteers from all walks of life are welcome to attend: mature teenagers who want to expand their life experience\, retirees who have time to do something they have always wanted to do\, unemployed citizens who want to keep their skills sharp\, and college students who want to give back to the community. \n  \nFor more information contact Christine Wuebker\, Sr. Education\, Interpretation and Volunteer Specialist\, at 804-861-2408 or email cwuebker@pamplinpark.org.
URL:https://pamplinpark.org/event/volunteer-open-house-pamplin-2/
LOCATION:VA
CATEGORIES:arts & culture,history talks,living history,tours
END:VEVENT
BEGIN:VEVENT
DTSTART;TZID=America/New_York:20180205T190000
DTEND;TZID=America/New_York:20180205T200000
DTSTAMP:20260425T130317
CREATED:20171220T160859Z
LAST-MODIFIED:20180115T212359Z
UID:1944-1517857200-1517860800@pamplinpark.org
SUMMARY:Petersburg Civil War Round Table at Pamplin
DESCRIPTION:The mission of the Petersburg Civil War Roundtable is to serve as a community facilitator for the dissemination and discussion of historical topics related to the Civil War era. This period’s military\, social\, economic\, and political historical relevance is clearly apparent in our present lives. The Roundtable seeks to provide a more thorough understanding of this era and to better inform citizens of today. \nThe Petersburg Civil War Roundtable (PCWRT) will meet the first Thursday of each month (except June\, July\, and August) at Pamplin Historical Park and the National Museum of the Civil War Soldier from 6:30 pm-7:30 pm. \n* Please note the exception for this month on both date and time. \nAnnual membership is $40.00. Individuals who are already members of Pamplin Historical Park can become members of PCWRT for $20.00. Non-members can attend for $5.00 each meeting. Call (804) 861-2408 for more information. \nThe speaker for February is author Ed Ayers who will speak about his book The Thin Light of Freedom: The Civil War and Emancipation in the Heart of America. \nFuture Speakers TBA.
URL:https://pamplinpark.org/event/petersburg-civil-war-roundtable-pamplin-3/
LOCATION:Pamplin Historical Park\, 6125 Boydton Plank Road\, Petersburg\, VA\, 23803\, United States
CATEGORIES:history talks
ORGANIZER;CN="Pamplin Historical Park":MAILTO:memberservices@pamplinpark.org
END:VEVENT
BEGIN:VEVENT
DTSTART;TZID=America/New_York:20180111T183000
DTEND;TZID=America/New_York:20180111T193000
DTSTAMP:20260425T130317
CREATED:20171205T141720Z
LAST-MODIFIED:20180109T195947Z
UID:1911-1515695400-1515699000@pamplinpark.org
SUMMARY:Petersburg Civil War Round Table at Pamplin (Rescheduled)
DESCRIPTION:Pamplin Historical Park & The National Museum of the Civil War Soldier has established a new Civil War Roundtable and it’s first meeting will be held on January 11th at 6:30 p.m. in the Park’s Education Center. This first meeting was originally scheduled for 1/4/18 and was postponed due to weather conditions. \nThe mission of the Petersburg Civil War Roundtable is to serve as a community facilitator for the dissemination and discussion of historical topics related to the Civil War era. This period’s military\, social\, economic\, and political historical relevance is clearly apparent in our present lives. The Roundtable seeks to provide a more thorough understanding of this era and to better inform citizens of today. \nThe Petersburg Civil War Roundtable (PCWRT) will meet the first Thursday of each month (except June\, July\, and August) at Pamplin Historical Park and the National Museum of the Civil War Soldier from 6:30 pm-7:30 pm. Annual membership is $40.00. Individuals who are already members of Pamplin Historical Park can become members of PCWRT for $20.00. Non-members can attend for $5.00 each meeting. Call (804) 861-2408 for more information. \nThe PCWRT’s inaugural meeting will feature guest speaker\, Jerry Desmond\, Executive Director of Pamplin Historical Park\, who will be speaking on Union Brig. Gen. James H. Wilson’s March and April 1865 Raid into Alabama and Georgia.
URL:https://pamplinpark.org/event/petersburg-civil-war-roundtable-pamplin/
LOCATION:Pamplin Historical Park\, 6125 Boydton Plank Road\, Petersburg\, VA\, 23803\, United States
CATEGORIES:arts & culture,history talks
ORGANIZER;CN="Pamplin Historical Park":MAILTO:memberservices@pamplinpark.org
END:VEVENT
BEGIN:VEVENT
DTSTART;TZID=America/New_York:20171007T110000
DTEND;TZID=America/New_York:20171007T130000
DTSTAMP:20260425T130317
CREATED:20170724T133125Z
LAST-MODIFIED:20170724T133125Z
UID:1800-1507374000-1507381200@pamplinpark.org
SUMMARY:“Richmond Shall Not Be Given Up” Book Signing with Doug Crenshaw
DESCRIPTION:In the summer of 1862\, with the eastern Confederate army on its heels\, and the Union army nearing the Southern nation’s capital city\, a dramatic turn occurred with a series of battles. Come out and hear historian and author Doug Crenshaw describe these fights in which Robert E. Lee took command of the newly named Army of Northern Virginia and aggressively attacked Gen. George McClellan’s Army of the Potomac. \nAfter the presentation\, Mr. Crenshaw will be signing copies of his book\, Richmond Shall Not be Given Up: The Seven Days Battles. June 25-July 1\, 1862 which is part of the Emerging Civil War Series.  Copies of this book will be available in the Civil War Store for purchase and author signing. The event is free with your Pamplin Historical Park membership or paid park admission.
URL:https://pamplinpark.org/event/richmond-shall-not-given-book-signing-doug-crenshaw/
LOCATION:Pamplin Historical Park\, 6125 Boydton Plank Road\, Petersburg\, VA\, 23803\, United States
CATEGORIES:arts & culture,history talks
ORGANIZER;CN="Pamplin Historical Park":MAILTO:memberservices@pamplinpark.org
END:VEVENT
BEGIN:VEVENT
DTSTART;TZID=America/New_York:20170429T130000
DTEND;TZID=America/New_York:20170429T150000
DTSTAMP:20260425T130317
CREATED:20170302T184746Z
LAST-MODIFIED:20170302T185537Z
UID:1593-1493470800-1493478000@pamplinpark.org
SUMMARY:History Talk and Book Signing
DESCRIPTION:We sometimes forget that the Civil War played out on the home front as well as on the battlefield. In fact\, for Southern civilians\, the home front too often became scenes of conflict. Please join us as author Courtney Soling Smith discusses the research that served as the basis for her recently released novel\, Lies Based on True Stories. Her talk\, “Digging Up History: Uncovering Interesting Facts about Daily Life during the Civil War\,” will begin at 1:00 pm and will be followed by a book signing. The program is free with paid admission or membership.
URL:https://pamplinpark.org/event/history-talk-book-signing/
LOCATION:Pamplin Historical Park\, 6125 Boydton Plank Road\, Petersburg\, VA\, 23803\, United States
CATEGORIES:history talks
ORGANIZER;CN="Pamplin Historical Park":MAILTO:memberservices@pamplinpark.org
END:VEVENT
END:VCALENDAR