BEGIN:VCALENDAR
VERSION:2.0
PRODID:-//Pamplin Historical Park - ECPv6.15.20//NONSGML v1.0//EN
CALSCALE:GREGORIAN
METHOD:PUBLISH
X-WR-CALNAME:Pamplin Historical Park
X-ORIGINAL-URL:https://pamplinpark.org
X-WR-CALDESC:Events for Pamplin Historical Park
REFRESH-INTERVAL;VALUE=DURATION:PT1H
X-Robots-Tag:noindex
X-PUBLISHED-TTL:PT1H
BEGIN:VTIMEZONE
TZID:America/New_York
BEGIN:DAYLIGHT
TZOFFSETFROM:-0500
TZOFFSETTO:-0400
TZNAME:EDT
DTSTART:20180311T070000
END:DAYLIGHT
BEGIN:STANDARD
TZOFFSETFROM:-0400
TZOFFSETTO:-0500
TZNAME:EST
DTSTART:20181104T060000
END:STANDARD
BEGIN:DAYLIGHT
TZOFFSETFROM:-0500
TZOFFSETTO:-0400
TZNAME:EDT
DTSTART:20190310T070000
END:DAYLIGHT
BEGIN:STANDARD
TZOFFSETFROM:-0400
TZOFFSETTO:-0500
TZNAME:EST
DTSTART:20191103T060000
END:STANDARD
BEGIN:DAYLIGHT
TZOFFSETFROM:-0500
TZOFFSETTO:-0400
TZNAME:EDT
DTSTART:20200308T070000
END:DAYLIGHT
BEGIN:STANDARD
TZOFFSETFROM:-0400
TZOFFSETTO:-0500
TZNAME:EST
DTSTART:20201101T060000
END:STANDARD
BEGIN:DAYLIGHT
TZOFFSETFROM:-0500
TZOFFSETTO:-0400
TZNAME:EDT
DTSTART:20210314T070000
END:DAYLIGHT
BEGIN:STANDARD
TZOFFSETFROM:-0400
TZOFFSETTO:-0500
TZNAME:EST
DTSTART:20211107T060000
END:STANDARD
END:VTIMEZONE
BEGIN:VEVENT
DTSTART;TZID=America/New_York:20201006T100000
DTEND;TZID=America/New_York:20201006T140000
DTSTAMP:20260423T045955
CREATED:20200902T212520Z
LAST-MODIFIED:20200902T212520Z
UID:3556-1601978400-1601992800@pamplinpark.org
SUMMARY:Fall Home School Day
DESCRIPTION:Students will be led through three of the Park’s established education programs: “The Civil War- Why They Fought\,” which helps explain why the nation came to war with itself; “Civil War Battles\,” which explains the evolution of Civil War combat and the importance of geography; and “Duty Called Me Here\,” which interactively explores the National Museum of the Civil War Soldier. \nWe ask that participating families or groups pre-register by calling 804-861-2408 to reserve their spots. We are limiting this learning opportunity to 35 total parents and students to help better accommodate social distancing. We ask that participants wear a face mask while indoors. Bring a brown-bag lunch.
URL:https://pamplinpark.org/event/fall-home-school-day-2/
CATEGORIES:education
END:VEVENT
BEGIN:VEVENT
DTSTART;TZID=America/New_York:20200618T090000
DTEND;TZID=America/New_York:20201130T170000
DTSTAMP:20260423T045955
CREATED:20200522T213209Z
LAST-MODIFIED:20200608T181536Z
UID:3493-1592470800-1606755600@pamplinpark.org
SUMMARY:Joshua L. Chamberlain: Scholar-Warrior Exhibit
DESCRIPTION:This limited time exhibit explores the life of the Civil War General and former Governor of Maine from birth to his death at age eighty-five. Artifacts\, artwork and documents tell Chamberlain’s story of his formative years through his rise into today’s pop culture. \nThe exhibit opening date of June 18 coincides with the severe wounding of Chamberlain during the Second Battle of Petersburg in 1864. This wound would be the cause of his death fifty years later in 1914 making him the last Civil War veteran to die of his wounds. \nJoshua L. Chamberlain was born in Brewer\, Maine as the oldest of five children. His parents wanted him to become a clergyman or join the military. Chamberlain instead sought academic pursuits and attended Bowdoin College in Brunswick\, Maine where he studied Ancient Greek and Latin\, graduating in 1852. Three years later he returned to Bowdoin as a professor of rhetoric and soon made use of his fluency in nine languages by being appointed Professor of Modern Languages in 1861. \nChamberlain left his teaching pursuits after the Civil War began and was appointed lieutenant colonel the famous 20th Maine Volunteer Infantry Regiment. His younger brother Thomas Chamberlain would also serve as an officer in the same regiment. Joshua Chamberlain’s actions at Gettysburg would later result in being awarded the Medal of Honor. There he saved the Union left flank at Little Round Top with a bayonet charge made famous by the book Killer Angels and the 1993 movie Gettysburg where he is portrayed by actor Jeff Daniels. This would also be the cause of Chamberlain rising into the nationally known pop culture of today. \nHe received two minor wounds at Gettysburg prior to his severe wounding at the Second Battle of Petersburg on June 18\, 1864 which led Lt. General Ulysses S. Grant to promote Chamberlain to brigadier general. Once recovered\, he returned to duty in the spring of 1865 for the Battle of Lewis’s Farm where Chamberlain was nearly captured and wounded again. He survived and went on to preside over the parade of the Confederate forces at Appomattox Court House on April 12\, 1865. \nChamberlain’s post-war life saw him return to Maine on a tide of popularity and serving four one-year terms as Governor. He also returned to Bowdoin College now as it’s president until retiring from ill health. There were additional pursuits in law and business but\, his old wound from Petersburg plagued him for the remainder of his life. Six surgeries failed to ease his condition and Chamberlain died in Portland\, Maine in 1914. One of the same two surgeons who fifty years earlier\, had tended to his wounds at Petersburg was by his side. \nThe special exhibit runs through November 29\, 2020 and is included with regular daily admission during normal operating hours.
URL:https://pamplinpark.org/event/joshua-l-chamberlain-scholar-warrior-exhibit/
LOCATION:Pamplin Historical Park\, 6125 Boydton Plank Road\, Petersburg\, VA\, 23803\, United States
CATEGORIES:arts & culture,education
ORGANIZER;CN="Pamplin Historical Park":MAILTO:memberservices@pamplinpark.org
END:VEVENT
BEGIN:VEVENT
DTSTART;TZID=America/New_York:20200402T100000
DTEND;TZID=America/New_York:20200402T120000
DTSTAMP:20260423T045955
CREATED:20190814T131619Z
LAST-MODIFIED:20200316T151606Z
UID:2735-1585821600-1585828800@pamplinpark.org
SUMMARY:Breakthrough Walking Tour
DESCRIPTION:*Due to ongoing concerns about the novel coronavirus (COVID-19)\, Pamplin Historical Park and the National Museum of the Civil War Soldier is cancelling or postponing all events and programs until April 15\, 2020\, based upon the guidance of the CDC regarding “social distancing” and the elimination of large gatherings.  This decision is being made out of an abundance of caution.  It will be impossible to know if we are overreacting or doing too much\, but it will be quite apparent if we under react or do too little.  Please continue to check our website and social media accounts for additional updates.* \nJoin Park historians as they tour the Breakthrough Battle of April 2nd\, 1865 while bringing the conflict and personalities alive for this special experience on the actual battlefield. The tour will begin at the historic Hart Farm which survived the battle and has been restored to its wartime appearance. \nAfter a brief overview of the Overland and Petersburg Campaigns\, guests will then embark on a tour of the battlefield to explore the original terrain features while incorporating the history that unfolded on this National Landmark site resulting in the collapse of Petersburg defenses and the withdrawal of Confederate forces from Richmond. Seven days later after a running fight out to Appomattox Courthouse\, the war would be over on April 9\, 1865. \nPristine earthworks\, rifle pits\, artillery redans and the picturesque Large and Small Meadows are included in this walking tour. Space on this tour is limited. Please call (804) 861-2408 for more information and to make your reservation or email Tim Talbott\, Director of Education\, Interpretation\, Visitor Services & Collections at ttalbott@pamplinpark.org. \nThis program is included with regular paid Park admission but\, tour reservations are required.
URL:https://pamplinpark.org/event/breakthrough-walking-tour/
LOCATION:Pamplin Historical Park\, 6125 Boydton Plank Road\, Petersburg\, VA\, 23803\, United States
CATEGORIES:arts & culture,education,history talks,tours
ORGANIZER;CN="Pamplin Historical Park":MAILTO:memberservices@pamplinpark.org
END:VEVENT
BEGIN:VEVENT
DTSTART;TZID=America/New_York:20200402T053000
DTEND;TZID=America/New_York:20200402T073000
DTSTAMP:20260423T045955
CREATED:20200219T162307Z
LAST-MODIFIED:20200316T151327Z
UID:3152-1585805400-1585812600@pamplinpark.org
SUMMARY:NPS Petersburg & Pamplin Historical Park Tour
DESCRIPTION:*Due to ongoing concerns about the novel coronavirus (COVID-19)\, Pamplin Historical Park and the National Museum of the Civil War Soldier is cancelling or postponing all events and programs until April 15\, 2020\, based upon the guidance of the CDC regarding “social distancing” and the elimination of large gatherings.  This decision is being made out of an abundance of caution.  It will be impossible to know if we are overreacting or doing too much\, but it will be quite apparent if we underreact or do too little.  Please continue to check our website and social media accounts for additional updates.* \nAs a collaborative effort\, Petersburg National Battlefield and Pamplin Historical Park are excited to offer an early morning guided tour of the Breakthrough Battlefield on Thursday\, April 2\, 2020. The tour will begin at the Jones Farm parking area (near intersection of Hofheimer Way and Church Road) at 5:30 a.m. and follow the route of the Army of the Potomac’s VI Corps assault to the Confederate earthworks defended by Brig. Gen. James Lane’s North Carolina Confederates. \nThis tour starts at 6506 Church Road\, Petersburg\, Virginia 23803 and will last 2 hours and will require roughly 1.5 miles of walking over occasionally uneven terrain. The tour is free and open to the public\, however\, donations for continued preservation efforts are appreciated.
URL:https://pamplinpark.org/event/nps-petersburg-pamplin-historical-park-tour/
CATEGORIES:artillery,arts & culture,education,tours
END:VEVENT
BEGIN:VEVENT
DTSTART;TZID=America/New_York:20200208T140000
DTEND;TZID=America/New_York:20200208T153000
DTSTAMP:20260423T045955
CREATED:20190807T204959Z
LAST-MODIFIED:20191211T194740Z
UID:2718-1581170400-1581175800@pamplinpark.org
SUMMARY:Valentine Tea
DESCRIPTION:At Pamplin Historical Park’s Valentine Tea ladies and gentlemen in period dress will teach guests 19th-century etiquette while they enjoy gourmet tea and snacks. Hear about famous love stories of 19th century couples where love was for better or worse! (Jefferson Davis + Sarah Knox Taylor\, Jenny Wade + Jack Skelly\, Queen Victoria and Prince Albert\, etc). Due to the popularity of this program\, reservations and prepayment are required. RSVP by February 7th. Park Members $20\, Non-Park Members $24
URL:https://pamplinpark.org/event/valentine-tea-3/
LOCATION:Pamplin Historical Park\, 6125 Boydton Plank Road\, Petersburg\, VA\, 23803\, United States
CATEGORIES:arts & culture,education,holiday,living history,tea
ORGANIZER;CN="Pamplin Historical Park":MAILTO:memberservices@pamplinpark.org
END:VEVENT
BEGIN:VEVENT
DTSTART;TZID=America/New_York:20200201T100000
DTEND;TZID=America/New_York:20200201T140000
DTSTAMP:20260423T045955
CREATED:20200108T181151Z
LAST-MODIFIED:20200108T181151Z
UID:3122-1580551200-1580565600@pamplinpark.org
SUMMARY:Volunteer Open Houses
DESCRIPTION:We offer fun volunteer opportunities to help preserve history\, and promote education! As President John F. Kennedy said\, “Every person can make a difference\, and every person should try.” Park staff will share information on volunteer opportunities at the Park and hold on-site interviews on Thursday\, January 23 from 1:00 p.m. to 4:00 p.m.\, Tuesday\, January. 28 from 9:00 a.m. to 1:00 p.m.\, Saturday\, February 1 from 10:00 a.m. to 2:00 p.m. at The National Museum of the Civil War Soldier\, located at 6125 Boydton Plank Road\, Petersburg\, VA 23803. \nThese volunteer recruitment open houses are held in preparation for the busy spring field trip and travel season. Volunteers are vital in assisting Park staff with visitor needs\, especially during the busy school season. \nVolunteers may assist in a variety of areas that focus on the Park’s goal to help preserve history and promote education. Volunteers from all walks of life are welcome to attend: mature teenagers who want to expand their life experience\, retirees who have time to do something they have always wanted to do\, unemployed citizens who want to keep their skills sharp\, and college students who want to give back to the community. \nThe question of why to volunteer is best summed up by former U.S. President George H. W. Bush’s statement\, “We can find meaning and reward by serving some higher purpose than ourselves\, a shining purpose\, the illumination of a thousand points of light.” \nFor more information contact Christine Wuebker\, Sr. Education\, Interpretation and Volunteer Specialist\, at 804-861-2408 or email cwuebker@pamplinpark.org.
URL:https://pamplinpark.org/event/volunteer-open-houses-3/
LOCATION:Pamplin Historical Park\, 6125 Boydton Plank Road\, Petersburg\, VA\, 23803\, United States
CATEGORIES:arts & culture,education,history talks,living history,tours
ORGANIZER;CN="Pamplin Historical Park":MAILTO:memberservices@pamplinpark.org
END:VEVENT
BEGIN:VEVENT
DTSTART;TZID=America/New_York:20200128T090000
DTEND;TZID=America/New_York:20200128T130000
DTSTAMP:20260423T045955
CREATED:20200108T180742Z
LAST-MODIFIED:20200108T180742Z
UID:3118-1580202000-1580216400@pamplinpark.org
SUMMARY:Volunteer Open Houses
DESCRIPTION:We offer fun volunteer opportunities to help preserve history\, and promote education! As President John F. Kennedy said\, “Every person can make a difference\, and every person should try.” Park staff will share information on volunteer opportunities at the Park and hold on-site interviews on Thursday\, January 23 from 1:00 p.m. to 4:00 p.m.\, Tuesday\, January. 28 from 9:00 a.m. to 1:00 p.m.\, Saturday\, February 1 from 10:00 a.m. to 2:00 p.m. at The National Museum of the Civil War Soldier\, located at 6125 Boydton Plank Road\, Petersburg\, VA 23803. \nThese volunteer recruitment open houses are held in preparation for the busy spring field trip and travel season. Volunteers are vital in assisting Park staff with visitor needs\, especially during the busy school season. \nVolunteers may assist in a variety of areas that focus on the Park’s goal to help preserve history and promote education. Volunteers from all walks of life are welcome to attend: mature teenagers who want to expand their life experience\, retirees who have time to do something they have always wanted to do\, unemployed citizens who want to keep their skills sharp\, and college students who want to give back to the community. \nThe question of why to volunteer is best summed up by former U.S. President George H. W. Bush’s statement\, “We can find meaning and reward by serving some higher purpose than ourselves\, a shining purpose\, the illumination of a thousand points of light.” \nFor more information contact Christine Wuebker\, Sr. Education\, Interpretation and Volunteer Specialist\, at 804-861-2408 or email cwuebker@pamplinpark.org.
URL:https://pamplinpark.org/event/volunteer-open-houses-2/
LOCATION:Pamplin Historical Park\, 6125 Boydton Plank Road\, Petersburg\, VA\, 23803\, United States
CATEGORIES:arts & culture,education,history talks,living history,tours
ORGANIZER;CN="Pamplin Historical Park":MAILTO:memberservices@pamplinpark.org
END:VEVENT
BEGIN:VEVENT
DTSTART;TZID=America/New_York:20200123T130000
DTEND;TZID=America/New_York:20200123T160000
DTSTAMP:20260423T045955
CREATED:20200108T180324Z
LAST-MODIFIED:20200108T180324Z
UID:3113-1579784400-1579795200@pamplinpark.org
SUMMARY:Volunteer Open Houses
DESCRIPTION:We offer fun volunteer opportunities to help preserve history\, and promote education! As President John F. Kennedy said\, “Every person can make a difference\, and every person should try.” Park staff will share information on volunteer opportunities at the Park and hold on-site interviews on Thursday\, January 23 from 1:00 p.m. to 4:00 p.m.\, Tuesday\, January. 28 from 9:00 a.m. to 1:00 p.m.\, Saturday\, February 1 from 10:00 a.m. to 2:00 p.m. at The National Museum of the Civil War Soldier\, located at 6125 Boydton Plank Road\, Petersburg\, VA 23803. \nThese volunteer recruitment open houses are held in preparation for the busy spring field trip and travel season. Volunteers are vital in assisting Park staff with visitor needs\, especially during the busy school season. \nVolunteers may assist in a variety of areas that focus on the Park’s goal to help preserve history and promote education. Volunteers from all walks of life are welcome to attend: mature teenagers who want to expand their life experience\, retirees who have time to do something they have always wanted to do\, unemployed citizens who want to keep their skills sharp\, and college students who want to give back to the community. \nThe question of why to volunteer is best summed up by former U.S. President George H. W. Bush’s statement\, “We can find meaning and reward by serving some higher purpose than ourselves\, a shining purpose\, the illumination of a thousand points of light.” \nlunteerFor more information contact Christine Wuebker\, Sr. Education\, Interpretation and Volunteer Specialist\, at 804-861-2408 or email cwuebker@pamplinpark.org.
URL:https://pamplinpark.org/event/volunteer-open-houses/
LOCATION:Pamplin Historical Park\, 6125 Boydton Plank Road\, Petersburg\, VA\, 23803\, United States
CATEGORIES:arts & culture,education,history talks,living history,tours
ORGANIZER;CN="Pamplin Historical Park":MAILTO:memberservices@pamplinpark.org
END:VEVENT
BEGIN:VEVENT
DTSTART;TZID=America/New_York:20200102T190000
DTEND;TZID=America/New_York:20200102T200000
DTSTAMP:20260423T045955
CREATED:20190807T203620Z
LAST-MODIFIED:20191211T194419Z
UID:2713-1577991600-1577995200@pamplinpark.org
SUMMARY:Petersburg Civil War Round Table at Pamplin
DESCRIPTION:Speakers William Waldrop and Mike Nusbaum will discuss “The CSS Richmond”. The Petersburg Civil War Roundtable (PCWRT) will meet the first Thursday of each month (except June\, July\, and August) at Pamplin Historical Park and the National Museum of the Civil War Soldier from 7:00 pm – 8:00 pm. Annual membership is $40.00. Individuals who are already members of Pamplin Historical Park can become members of PCWRT for $20.00. Non-members can attend for $5.00 each meeting. Call (804) 861-2408 for more information.
URL:https://pamplinpark.org/event/petersburg-civil-war-round-table-pamplin-9/
LOCATION:Pamplin Historical Park\, 6125 Boydton Plank Road\, Petersburg\, VA\, 23803\, United States
CATEGORIES:arts & culture,education,history talks,literature
ORGANIZER;CN="Pamplin Historical Park":MAILTO:memberservices@pamplinpark.org
END:VEVENT
BEGIN:VEVENT
DTSTART;TZID=America/New_York:20191203T090000
DTEND;TZID=America/New_York:20191203T170000
DTSTAMP:20260423T045955
CREATED:20191119T203210Z
LAST-MODIFIED:20191120T190008Z
UID:2890-1575363600-1575392400@pamplinpark.org
SUMMARY:Educate for the Future on #GIVINGTUESDAY
DESCRIPTION:Join Pamplin Historical Park this December 3\, 2019 for #GivingTuesday as we celebrate by accepting donations to support the A. Wilson Greene Scholarship Fund which provides funding for schools struggling with field trip transportation costs. Help us reach our goal of $10\,000 to help fund the cost of motor coach rentals for under-funded schools. \n#GivingTuesday is a global day of giving that harnesses the collective power of individuals\, communities and organizations to encourage philanthropy and to celebrate generosity worldwide. Following Thanksgiving and the widely recognized shopping events Black Friday and Cyber Monday\, this year’s #GivingTuesday will take place on December 3rd and will kick off the giving season by inspiring people to collaborate and give back. \nThe A. Wilson Greene Scholarship Fund (AWGSF) is a grant program that assists schools and other tour groups with financial support for transportation costs to attend field trips at Pamplin Historical Park. Pamplin Historical Park is aware that student groups are often prevented from scheduling field trips due to the cost of providing transportation. The AWGSF is designed to help defray the cost of transportation so that more students and other tour groups are able to experience the extraordinary programming offered at Pamplin Historical Park. \nFounded in 2012 by the 92nd Street Y – a community and cultural center in New York City − #GivingTuesday inspired millions of people to give back and support the causes they believe in. Over $300 million was raised online to benefit a tremendously broad range of organizations\, and much more was given in volunteer hours\, donations of food and clothing\, and acts of kindness. \nShare the past and strengthen communities today by joining Pamplin Historical Park’s #GivingTuesday initiative and visit Donate Now or call (804) 861-2408 now.
URL:https://pamplinpark.org/event/educate-future-givingtuesday/
CATEGORIES:arts & culture,education
END:VEVENT
END:VCALENDAR