BEGIN:VCALENDAR
VERSION:2.0
PRODID:-//Pamplin Historical Park - ECPv6.15.20//NONSGML v1.0//EN
CALSCALE:GREGORIAN
METHOD:PUBLISH
X-WR-CALNAME:Pamplin Historical Park
X-ORIGINAL-URL:https://pamplinpark.org
X-WR-CALDESC:Events for Pamplin Historical Park
REFRESH-INTERVAL;VALUE=DURATION:PT1H
X-Robots-Tag:noindex
X-PUBLISHED-TTL:PT1H
BEGIN:VTIMEZONE
TZID:America/New_York
BEGIN:DAYLIGHT
TZOFFSETFROM:-0500
TZOFFSETTO:-0400
TZNAME:EDT
DTSTART:20200308T070000
END:DAYLIGHT
BEGIN:STANDARD
TZOFFSETFROM:-0400
TZOFFSETTO:-0500
TZNAME:EST
DTSTART:20201101T060000
END:STANDARD
BEGIN:DAYLIGHT
TZOFFSETFROM:-0500
TZOFFSETTO:-0400
TZNAME:EDT
DTSTART:20210314T070000
END:DAYLIGHT
BEGIN:STANDARD
TZOFFSETFROM:-0400
TZOFFSETTO:-0500
TZNAME:EST
DTSTART:20211107T060000
END:STANDARD
BEGIN:DAYLIGHT
TZOFFSETFROM:-0500
TZOFFSETTO:-0400
TZNAME:EDT
DTSTART:20220313T070000
END:DAYLIGHT
BEGIN:STANDARD
TZOFFSETFROM:-0400
TZOFFSETTO:-0500
TZNAME:EST
DTSTART:20221106T060000
END:STANDARD
END:VTIMEZONE
BEGIN:VEVENT
DTSTART;TZID=America/New_York:20211202T190000
DTEND;TZID=America/New_York:20211202T200000
DTSTAMP:20260425T115537
CREATED:20210113T214304Z
LAST-MODIFIED:20211110T224938Z
UID:3800-1638471600-1638475200@pamplinpark.org
SUMMARY:Roundtable: Petersburg's Regiment: The 12th Virginia Infantry
DESCRIPTION:Join speaker John Horn as he share the story of “Petersburg’s Regiment: The 12th Virginia Infantry.” \nHorn spent decades researching the 12th Virginia Infantry through searching archives and uncovering scores of previously unknown accounts. In his book\, Petersburg’s Regiment: The 12th Virginia Infantry\, Horn shares personal glimpses of the men who served from the hanging of the abolitionist John Brown through the surrender at Appomattox 1859-1865. Tales of the hard fighting in between includes participation in the battles of Seven Pines\, Chancellorsville\, Gettysburg\, Spotsylvania and the nine month siege of Petersburg. \nJohn Horn is a native of the Chicago area who married his wife\, a native of Richmond\, Virginia. Horn received his B.A. in English and Latin from New College and a J.D. from Columbia Law School. Although he practices law\, Horn has always had a passion for history. He has published several articles in Civil War Illustrated and America’s Civil War. He has authored books to include The Destruction of the Weldon Railroad and The Petersburg Campaign. Horn has also co-edited Civil War Talks with fellow author Hampton Newsome and blogs at petersburgcampaign@blogspot.com. \nThe Petersburg Civil War Roundtable (PCWRT) will meet the first Thursday of each month at Pamplin Historical Park and the National Museum of the Civil War Soldier from 7:00 pm-8:00 pm. Annual membership is $40.00. Individuals who are already members of Pamplin Historical Park can become members of PCWRT for $20.00. Non-members can attend for $5.00 each meeting. Call (804) 861-2408 for more information. \nThe health and safety of visitors and staff is a first priority. The park is following the governor of Virginia’s guidelines. Frequent cleaning and sanitation of high contact surfaces is performed daily. Staff members wear face coverings and visitors are encouraged to do so as well. Social distancing of a physical six feet will be maintained throughout the 424-acre park and building occupancy levels will be closely monitored. Hand sanitizer is available at locations throughout the park.
URL:https://pamplinpark.org/event/petersburgs-regiment-the-12th-virginia-infantry/
CATEGORIES:arts & culture,history talks,literature
END:VEVENT
BEGIN:VEVENT
DTSTART;TZID=America/New_York:20211204T140000
DTEND;TZID=America/New_York:20211204T153000
DTSTAMP:20260425T115537
CREATED:20211105T220328Z
LAST-MODIFIED:20211109T222534Z
UID:4250-1638626400-1638631800@pamplinpark.org
SUMMARY:Tea & Tidings (In-Person & Virtual)
DESCRIPTION:This themed tea offers tasty tea and treats with a program highlighting the holidays as they were celebrated at a distance during the Civil War. \nPark staff attired in mid 1800s clothing will explore how Americans celebrated the Christmas season during the Civil War. It was a difficult time as letters were the only form of communication with family and soldiers often far away from home. Experience how these letters from home brought cheer to soldiers in the field and provided a connection to loved ones back at home. \nAttendees will learn how holiday meals usually required substitutions at home with scarce provisions and soldiers made do with what they could forage around their camp. Even the gifts from home of knitted items or food brought tears to soldiers eyes\, as they might provide the only physical connection to the loved ones who sent them. \nThe Park’s Tea & Tidings will only be offered one afternoon and space is limited. This event is offered both in person and virtually. Due to the popularity of the tea programs\, reservations and prepayment are required. The event will be held at The National Museum of the Civil War Soldier located at 6125 Boydton Plank Road\, Petersburg\, VA 23803. The cost is $30.00 per in-person ticket or virtual tickets are $15.00 per person. An additional “Tea Goody Box” can be purchased by virtual attendees for an additional $15.00 each. Call (804) 861-2408 to reserve your holiday experience. \nClick here to purchase in-person tickets. \nClick here to purchase virtual tickets.
URL:https://pamplinpark.org/event/tea-tidings-3/
LOCATION:Pamplin Historical Park\, 6125 Boydton Plank Road\, Petersburg\, VA\, 23803\, United States
CATEGORIES:arts & culture,food,holiday,tea
ORGANIZER;CN="Pamplin Historical Park":MAILTO:memberservices@pamplinpark.org
END:VEVENT
END:VCALENDAR